BEGIN:VCALENDAR
VERSION:2.0
PRODID:-//Pauntley Parish Council//Meeting Calendar//EN
CALSCALE:GREGORIAN
METHOD:PUBLISH
BEGIN:VEVENT
UID:70864-20260112@pauntleyparishcouncil.gov.uk
DTSTAMP:20260422T084757Z
DTSTART;VALUE=DATE:20260112
DTEND;VALUE=DATE:20260113
SUMMARY:Parish Council Meeting 12.01.2026 7.15pm
DESCRIPTION:Full Council Meeting\nView details: https://pauntleyparishcouncil.gov.uk/meetings/parish-council-meeting-12-01-2026-7-15pm/
URL:https://pauntleyparishcouncil.gov.uk/meetings/parish-council-meeting-12-01-2026-7-15pm/
END:VEVENT
END:VCALENDAR
